BEGIN:VCALENDAR
VERSION:2.0
PRODID:-//Bethel Township - ECPv6.15.20//NONSGML v1.0//EN
CALSCALE:GREGORIAN
METHOD:PUBLISH
X-ORIGINAL-URL:https://betheltwp.org
X-WR-CALDESC:Events for Bethel Township
REFRESH-INTERVAL;VALUE=DURATION:PT1H
X-Robots-Tag:noindex
X-PUBLISHED-TTL:PT1H
BEGIN:VTIMEZONE
TZID:America/New_York
BEGIN:DAYLIGHT
TZOFFSETFROM:-0500
TZOFFSETTO:-0400
TZNAME:EDT
DTSTART:20250309T070000
END:DAYLIGHT
BEGIN:STANDARD
TZOFFSETFROM:-0400
TZOFFSETTO:-0500
TZNAME:EST
DTSTART:20251102T060000
END:STANDARD
BEGIN:DAYLIGHT
TZOFFSETFROM:-0500
TZOFFSETTO:-0400
TZNAME:EDT
DTSTART:20260308T070000
END:DAYLIGHT
BEGIN:STANDARD
TZOFFSETFROM:-0400
TZOFFSETTO:-0500
TZNAME:EST
DTSTART:20261101T060000
END:STANDARD
BEGIN:DAYLIGHT
TZOFFSETFROM:-0500
TZOFFSETTO:-0400
TZNAME:EDT
DTSTART:20270314T070000
END:DAYLIGHT
BEGIN:STANDARD
TZOFFSETFROM:-0400
TZOFFSETTO:-0500
TZNAME:EST
DTSTART:20271107T060000
END:STANDARD
END:VTIMEZONE
BEGIN:VEVENT
DTSTART;TZID=America/New_York:20260813T180000
DTEND;TZID=America/New_York:20260813T190000
DTSTAMP:20260424T075259
CREATED:20260423T133931Z
LAST-MODIFIED:20260423T133931Z
UID:4981-1786644000-1786647600@betheltwp.org
SUMMARY:Board of Supervisors Mtg 6pm
DESCRIPTION:
URL:https://betheltwp.org/event/board-of-supervisors-mtg-6pm-6/
END:VEVENT
BEGIN:VEVENT
DTSTART;VALUE=DATE:20260907
DTEND;VALUE=DATE:20260908
DTSTAMP:20260424T075259
CREATED:20260324T111926Z
LAST-MODIFIED:20260324T111926Z
UID:4883-1788739200-1788825599@betheltwp.org
SUMMARY:Labor Day Holiday office closed
DESCRIPTION:
URL:https://betheltwp.org/event/labor-day-holiday-office-closed/
END:VEVENT
BEGIN:VEVENT
DTSTART;TZID=America/New_York:20260910T163000
DTEND;TZID=America/New_York:20260910T170000
DTSTAMP:20260424T075259
CREATED:20260423T141708Z
LAST-MODIFIED:20260423T141708Z
UID:4989-1789057800-1789059600@betheltwp.org
SUMMARY:Board of Supervisors Budget Workshop 6pm
DESCRIPTION:
URL:https://betheltwp.org/event/board-of-supervisors-budget-workshop-6pm/
END:VEVENT
BEGIN:VEVENT
DTSTART;TZID=America/New_York:20260910T180000
DTEND;TZID=America/New_York:20260910T190000
DTSTAMP:20260424T075259
CREATED:20260423T134050Z
LAST-MODIFIED:20260423T134050Z
UID:4983-1789063200-1789066800@betheltwp.org
SUMMARY:Board of Supervisors Mtg 6pm
DESCRIPTION:
URL:https://betheltwp.org/event/board-of-supervisors-mtg-6pm-7/
END:VEVENT
BEGIN:VEVENT
DTSTART;TZID=America/New_York:20260914T190000
DTEND;TZID=America/New_York:20260914T200000
DTSTAMP:20260424T075259
CREATED:20260423T130727Z
LAST-MODIFIED:20260423T130727Z
UID:4968-1789412400-1789416000@betheltwp.org
SUMMARY:EAC Meeting 7pm
DESCRIPTION:
URL:https://betheltwp.org/event/eac-meeting-7pm-5/
END:VEVENT
BEGIN:VEVENT
DTSTART;TZID=America/New_York:20261005T190000
DTEND;TZID=America/New_York:20261005T200000
DTSTAMP:20260424T075259
CREATED:20260423T130759Z
LAST-MODIFIED:20260423T130759Z
UID:4970-1791226800-1791230400@betheltwp.org
SUMMARY:EAC Meeting 7pm
DESCRIPTION:
URL:https://betheltwp.org/event/eac-meeting-7pm-6/
END:VEVENT
BEGIN:VEVENT
DTSTART;TZID=America/New_York:20261008T180000
DTEND;TZID=America/New_York:20261008T190000
DTSTAMP:20260424T075259
CREATED:20260423T141443Z
LAST-MODIFIED:20260423T141443Z
UID:4985-1791482400-1791486000@betheltwp.org
SUMMARY:Board of Supervisors Mtg 6pm
DESCRIPTION:
URL:https://betheltwp.org/event/board-of-supervisors-mtg-6pm-8/
END:VEVENT
BEGIN:VEVENT
DTSTART;TZID=America/New_York:20261102T190000
DTEND;TZID=America/New_York:20261102T200000
DTSTAMP:20260424T075259
CREATED:20260423T130900Z
LAST-MODIFIED:20260423T130900Z
UID:4972-1793646000-1793649600@betheltwp.org
SUMMARY:EAC Meeting 7pm
DESCRIPTION:
URL:https://betheltwp.org/event/eac-meeting-7pm-7/
END:VEVENT
BEGIN:VEVENT
DTSTART;TZID=America/New_York:20261112T180000
DTEND;TZID=America/New_York:20261112T190000
DTSTAMP:20260424T075259
CREATED:20260423T141520Z
LAST-MODIFIED:20260423T141520Z
UID:4987-1794506400-1794510000@betheltwp.org
SUMMARY:Board of Supervisors Mtg 6pm
DESCRIPTION:
URL:https://betheltwp.org/event/board-of-supervisors-mtg-6pm-9/
END:VEVENT
BEGIN:VEVENT
DTSTART;TZID=America/New_York:20261207T190000
DTEND;TZID=America/New_York:20261207T200000
DTSTAMP:20260424T075259
CREATED:20260423T132132Z
LAST-MODIFIED:20260423T132132Z
UID:4974-1796670000-1796673600@betheltwp.org
SUMMARY:EAC Meeting 7pm
DESCRIPTION:
URL:https://betheltwp.org/event/eac-meeting-7pm-8/
END:VEVENT
BEGIN:VEVENT
DTSTART;TZID=America/New_York:20261210T180000
DTEND;TZID=America/New_York:20261210T190000
DTSTAMP:20260424T075259
CREATED:20260423T132308Z
LAST-MODIFIED:20260423T132308Z
UID:4976-1796925600-1796929200@betheltwp.org
SUMMARY:Board of Supervisors Mtg 6pm
DESCRIPTION:
URL:https://betheltwp.org/event/board-of-supervisors-mtg-6pm-4/
END:VEVENT
END:VCALENDAR