BEGIN:VCALENDAR
VERSION:2.0
PRODID:-//Bethel Township - ECPv6.15.20//NONSGML v1.0//EN
CALSCALE:GREGORIAN
METHOD:PUBLISH
X-WR-CALNAME:Bethel Township
X-ORIGINAL-URL:https://betheltwp.org
X-WR-CALDESC:Events for Bethel Township
REFRESH-INTERVAL;VALUE=DURATION:PT1H
X-Robots-Tag:noindex
X-PUBLISHED-TTL:PT1H
BEGIN:VTIMEZONE
TZID:America/New_York
BEGIN:DAYLIGHT
TZOFFSETFROM:-0500
TZOFFSETTO:-0400
TZNAME:EDT
DTSTART:20230312T070000
END:DAYLIGHT
BEGIN:STANDARD
TZOFFSETFROM:-0400
TZOFFSETTO:-0500
TZNAME:EST
DTSTART:20231105T060000
END:STANDARD
BEGIN:DAYLIGHT
TZOFFSETFROM:-0500
TZOFFSETTO:-0400
TZNAME:EDT
DTSTART:20240310T070000
END:DAYLIGHT
BEGIN:STANDARD
TZOFFSETFROM:-0400
TZOFFSETTO:-0500
TZNAME:EST
DTSTART:20241103T060000
END:STANDARD
BEGIN:DAYLIGHT
TZOFFSETFROM:-0500
TZOFFSETTO:-0400
TZNAME:EDT
DTSTART:20250309T070000
END:DAYLIGHT
BEGIN:STANDARD
TZOFFSETFROM:-0400
TZOFFSETTO:-0500
TZNAME:EST
DTSTART:20251102T060000
END:STANDARD
BEGIN:DAYLIGHT
TZOFFSETFROM:-0500
TZOFFSETTO:-0400
TZNAME:EDT
DTSTART:20260308T070000
END:DAYLIGHT
BEGIN:STANDARD
TZOFFSETFROM:-0400
TZOFFSETTO:-0500
TZNAME:EST
DTSTART:20261101T060000
END:STANDARD
END:VTIMEZONE
BEGIN:VEVENT
DTSTART;VALUE=DATE:20250505
DTEND;VALUE=DATE:20250506
DTSTAMP:20260424T091443
CREATED:20250505T115431Z
LAST-MODIFIED:20250505T115608Z
UID:4423-1746403200-1746489599@betheltwp.org
SUMMARY:Office Closed for PSATS Convention
DESCRIPTION:Office Closed for PSATS Convention
URL:https://betheltwp.org/event/office-closed-for-psats-convention/
CATEGORIES:General
END:VEVENT
BEGIN:VEVENT
DTSTART;TZID=America/New_York:20250318T180000
DTEND;TZID=America/New_York:20250318T190000
DTSTAMP:20260424T091443
CREATED:20250305T131549Z
LAST-MODIFIED:20250305T131549Z
UID:4367-1742320800-1742324400@betheltwp.org
SUMMARY:Municipal Authority Meeting 6pm
DESCRIPTION:
URL:https://betheltwp.org/event/municipal-authority-meeting-6pm/
END:VEVENT
BEGIN:VEVENT
DTSTART;TZID=America/New_York:20250313T180000
DTEND;TZID=America/New_York:20250313T190000
DTSTAMP:20260424T091443
CREATED:20250305T131436Z
LAST-MODIFIED:20250305T131454Z
UID:4365-1741888800-1741892400@betheltwp.org
SUMMARY:Board of Supervisors Meeting 6pm
DESCRIPTION:
URL:https://betheltwp.org/event/board-of-supervisors-meeting-6pm/
END:VEVENT
BEGIN:VEVENT
DTSTART;TZID=America/New_York:20250311T190000
DTEND;TZID=America/New_York:20250311T200000
DTSTAMP:20260424T091443
CREATED:20250305T131309Z
LAST-MODIFIED:20250305T131309Z
UID:4361-1741719600-1741723200@betheltwp.org
SUMMARY:Planning Commission Meeting 7pm
DESCRIPTION:
URL:https://betheltwp.org/event/planning-commission-meeting-7pm/
END:VEVENT
BEGIN:VEVENT
DTSTART;TZID=America/New_York:20250311T180000
DTEND;TZID=America/New_York:20250311T190000
DTSTAMP:20260424T091443
CREATED:20250305T131357Z
LAST-MODIFIED:20250311T151156Z
UID:4363-1741716000-1741719600@betheltwp.org
SUMMARY:Planning Commission Workshop Solar Farms 6pm - CANCELLED
DESCRIPTION:
URL:https://betheltwp.org/event/planning-commission-workshop-solar-farms-6pm/
END:VEVENT
BEGIN:VEVENT
DTSTART;TZID=America/New_York:20250114T190000
DTEND;TZID=America/New_York:20250114T200000
DTSTAMP:20260424T091443
CREATED:20241231T161443Z
LAST-MODIFIED:20241231T161443Z
UID:4298-1736881200-1736884800@betheltwp.org
SUMMARY:Planning Commission Meeting 7:00pm
DESCRIPTION:
URL:https://betheltwp.org/event/planning-commission-meeting-700pm/
CATEGORIES:Planning Commission
END:VEVENT
BEGIN:VEVENT
DTSTART;TZID=America/New_York:20250113T180000
DTEND;TZID=America/New_York:20250113T190000
DTSTAMP:20260424T091443
CREATED:20241231T161637Z
LAST-MODIFIED:20241231T161637Z
UID:4300-1736791200-1736794800@betheltwp.org
SUMMARY:Municipal Authority Meeting 6:00pm
DESCRIPTION:
URL:https://betheltwp.org/event/municipal-authority-meeting-600pm/
CATEGORIES:Municipal Authority
END:VEVENT
BEGIN:VEVENT
DTSTART;TZID=America/New_York:20250107T190000
DTEND;TZID=America/New_York:20250107T193000
DTSTAMP:20260424T091443
CREATED:20241231T161317Z
LAST-MODIFIED:20250107T164701Z
UID:4296-1736276400-1736278200@betheltwp.org
SUMMARY:Elected Auditors Meeting 6:30pm
DESCRIPTION:
URL:https://betheltwp.org/event/elected-auditors-meeting-700pm/
CATEGORIES:Elected Auditors
END:VEVENT
BEGIN:VEVENT
DTSTART;TZID=America/New_York:20250106T160000
DTEND;TZID=America/New_York:20250106T180000
DTSTAMP:20260424T091443
CREATED:20241231T161119Z
LAST-MODIFIED:20241231T161119Z
UID:4294-1736179200-1736186400@betheltwp.org
SUMMARY:Board of Supervisors Meeting 6:00pm
DESCRIPTION:
URL:https://betheltwp.org/event/board-of-supervisors-meeting-600pm/
CATEGORIES:Board of Supervisors
END:VEVENT
BEGIN:VEVENT
DTSTART;VALUE=DATE:20241231
DTEND;VALUE=DATE:20250104
DTSTAMP:20260424T091443
CREATED:20241216T214047Z
LAST-MODIFIED:20241216T214047Z
UID:4287-1735603200-1735948799@betheltwp.org
SUMMARY:Office Closed for Holiday's
DESCRIPTION:
URL:https://betheltwp.org/event/office-closed-for-holidays-2/
END:VEVENT
BEGIN:VEVENT
DTSTART;VALUE=DATE:20241224
DTEND;VALUE=DATE:20241228
DTSTAMP:20260424T091443
CREATED:20241216T214021Z
LAST-MODIFIED:20241216T214021Z
UID:4285-1734998400-1735343999@betheltwp.org
SUMMARY:Office Closed for Holiday's
DESCRIPTION:
URL:https://betheltwp.org/event/office-closed-for-holidays/
END:VEVENT
BEGIN:VEVENT
DTSTART;TZID=America/New_York:20241217T190000
DTEND;TZID=America/New_York:20241217T200000
DTSTAMP:20260424T091443
CREATED:20231227T214607Z
LAST-MODIFIED:20241119T215910Z
UID:3588-1734462000-1734465600@betheltwp.org
SUMMARY:MUNICIPAL AUTHORITY MEETING
DESCRIPTION:
URL:https://betheltwp.org/event/municipal-authority-meeting-5/
CATEGORIES:Municipal Authority
END:VEVENT
BEGIN:VEVENT
DTSTART;TZID=America/New_York:20241212T180000
DTEND;TZID=America/New_York:20241212T190000
DTSTAMP:20260424T091443
CREATED:20231227T220124Z
LAST-MODIFIED:20231227T220124Z
UID:3619-1734026400-1734030000@betheltwp.org
SUMMARY:Board of Supervisors Meeting
DESCRIPTION:
URL:https://betheltwp.org/event/board-of-supervisors-meeting-5/
CATEGORIES:Board of Supervisors
END:VEVENT
BEGIN:VEVENT
DTSTART;TZID=America/New_York:20241210T190000
DTEND;TZID=America/New_York:20241210T200000
DTSTAMP:20260424T091443
CREATED:20231227T220045Z
LAST-MODIFIED:20231227T220045Z
UID:3617-1733857200-1733860800@betheltwp.org
SUMMARY:Planning Commission Meeting
DESCRIPTION:
URL:https://betheltwp.org/event/planning-commission-meeting-7/
CATEGORIES:Planning Commission
END:VEVENT
BEGIN:VEVENT
DTSTART;TZID=America/New_York:20241205T190000
DTEND;TZID=America/New_York:20241205T200000
DTSTAMP:20260424T091443
CREATED:20240102T154425Z
LAST-MODIFIED:20240102T154425Z
UID:3695-1733425200-1733428800@betheltwp.org
SUMMARY:Recreation Board
DESCRIPTION:
URL:https://betheltwp.org/event/recreation-board-23/
END:VEVENT
BEGIN:VEVENT
DTSTART;TZID=America/New_York:20241202T190000
DTEND;TZID=America/New_York:20241202T200000
DTSTAMP:20260424T091443
CREATED:20240102T154339Z
LAST-MODIFIED:20240102T154339Z
UID:3693-1733166000-1733169600@betheltwp.org
SUMMARY:EAC
DESCRIPTION:
URL:https://betheltwp.org/event/eac-20/
END:VEVENT
BEGIN:VEVENT
DTSTART;TZID=America/New_York:20241119T180000
DTEND;TZID=America/New_York:20241119T200000
DTSTAMP:20260424T091443
CREATED:20241119T215834Z
LAST-MODIFIED:20241119T215950Z
UID:4244-1732039200-1732046400@betheltwp.org
SUMMARY:Municipal Authority Meeting
DESCRIPTION:
URL:https://betheltwp.org/event/municipal-authority-meeting-6/
CATEGORIES:Municipal Authority
END:VEVENT
BEGIN:VEVENT
DTSTART;TZID=America/New_York:20241114T180000
DTEND;TZID=America/New_York:20241114T190000
DTSTAMP:20260424T091443
CREATED:20231227T220151Z
LAST-MODIFIED:20231227T220151Z
UID:3621-1731607200-1731610800@betheltwp.org
SUMMARY:Board of Supervisors Meeting
DESCRIPTION:
URL:https://betheltwp.org/event/board-of-supervisors-meeting-6/
CATEGORIES:Board of Supervisors
END:VEVENT
BEGIN:VEVENT
DTSTART;TZID=America/New_York:20241112T190000
DTEND;TZID=America/New_York:20241112T200000
DTSTAMP:20260424T091443
CREATED:20231227T220012Z
LAST-MODIFIED:20231227T220012Z
UID:3615-1731438000-1731441600@betheltwp.org
SUMMARY:Planning Commission Meeting
DESCRIPTION:
URL:https://betheltwp.org/event/planning-commission-meeting-6/
CATEGORIES:Planning Commission
END:VEVENT
BEGIN:VEVENT
DTSTART;VALUE=DATE:20241111
DTEND;VALUE=DATE:20241112
DTSTAMP:20260424T091443
CREATED:20241111T153855Z
LAST-MODIFIED:20241111T153855Z
UID:4213-1731283200-1731369599@betheltwp.org
SUMMARY:Office Closed in honor of Veterns Day
DESCRIPTION:
URL:https://betheltwp.org/event/office-closed-in-honor-of-veterns-day/
END:VEVENT
BEGIN:VEVENT
DTSTART;TZID=America/New_York:20241106T190000
DTEND;TZID=America/New_York:20241106T200000
DTSTAMP:20260424T091443
CREATED:20231227T214525Z
LAST-MODIFIED:20231227T214525Z
UID:3586-1730919600-1730923200@betheltwp.org
SUMMARY:MUNICIPAL AUTHORITY MEETING
DESCRIPTION:
URL:https://betheltwp.org/event/municipal-authority-meeting-4/
CATEGORIES:Municipal Authority
END:VEVENT
BEGIN:VEVENT
DTSTART;TZID=America/New_York:20241104T190000
DTEND;TZID=America/New_York:20241104T200000
DTSTAMP:20260424T091443
CREATED:20240102T154221Z
LAST-MODIFIED:20240102T154221Z
UID:3691-1730746800-1730750400@betheltwp.org
SUMMARY:EAC
DESCRIPTION:
URL:https://betheltwp.org/event/eac-19/
END:VEVENT
BEGIN:VEVENT
DTSTART;TZID=America/New_York:20241023T160000
DTEND;TZID=America/New_York:20241023T170000
DTSTAMP:20260424T091443
CREATED:20241007T183249Z
LAST-MODIFIED:20241007T183249Z
UID:4173-1729699200-1729702800@betheltwp.org
SUMMARY:Board of Supervisors Budget Meeting
DESCRIPTION:
URL:https://betheltwp.org/event/board-of-supervisors-budget-meeting/
CATEGORIES:Board of Supervisors
END:VEVENT
BEGIN:VEVENT
DTSTART;TZID=America/New_York:20241015T180000
DTEND;TZID=America/New_York:20241015T200000
DTSTAMP:20260424T091443
CREATED:20231227T214438Z
LAST-MODIFIED:20241007T182822Z
UID:3584-1729015200-1729022400@betheltwp.org
SUMMARY:MUNICIPAL AUTHORITY MEETING
DESCRIPTION:
URL:https://betheltwp.org/event/municipal-authority-meeting-3/
CATEGORIES:Municipal Authority
END:VEVENT
BEGIN:VEVENT
DTSTART;TZID=America/New_York:20241010T180000
DTEND;TZID=America/New_York:20241010T190000
DTSTAMP:20260424T091443
CREATED:20231227T220220Z
LAST-MODIFIED:20231227T220220Z
UID:3623-1728583200-1728586800@betheltwp.org
SUMMARY:Board of Supervisors Meeting
DESCRIPTION:
URL:https://betheltwp.org/event/board-of-supervisors-meeting-7/
CATEGORIES:Board of Supervisors
END:VEVENT
BEGIN:VEVENT
DTSTART;TZID=America/New_York:20241008T190000
DTEND;TZID=America/New_York:20241008T200000
DTSTAMP:20260424T091443
CREATED:20231227T215849Z
LAST-MODIFIED:20231227T215849Z
UID:3611-1728414000-1728417600@betheltwp.org
SUMMARY:Planning Commission Meeting
DESCRIPTION:
URL:https://betheltwp.org/event/planning-commission-meeting-4/
CATEGORIES:Planning Commission
END:VEVENT
BEGIN:VEVENT
DTSTART;TZID=America/New_York:20241007T190000
DTEND;TZID=America/New_York:20241007T200000
DTSTAMP:20260424T091443
CREATED:20240102T154141Z
LAST-MODIFIED:20240102T154141Z
UID:3689-1728327600-1728331200@betheltwp.org
SUMMARY:EAC
DESCRIPTION:
URL:https://betheltwp.org/event/eac-18/
END:VEVENT
BEGIN:VEVENT
DTSTART;VALUE=DATE:20240928
DTEND;VALUE=DATE:20240929
DTSTAMP:20260424T091443
CREATED:20240917T161157Z
LAST-MODIFIED:20240917T161157Z
UID:4162-1727481600-1727567999@betheltwp.org
SUMMARY:
DESCRIPTION:
URL:https://betheltwp.org/event/4162/
CATEGORIES:General
END:VEVENT
BEGIN:VEVENT
DTSTART;TZID=America/New_York:20240917T180000
DTEND;TZID=America/New_York:20240917T180000
DTSTAMP:20260424T091443
CREATED:20231227T214352Z
LAST-MODIFIED:20240905T155241Z
UID:3582-1726596000-1726596000@betheltwp.org
SUMMARY:BTMA
DESCRIPTION:
URL:https://betheltwp.org/event/municipal-authority-meeting-2/
CATEGORIES:Municipal Authority
END:VEVENT
BEGIN:VEVENT
DTSTART;TZID=America/New_York:20240912T180000
DTEND;TZID=America/New_York:20240912T190000
DTSTAMP:20260424T091443
CREATED:20231227T215440Z
LAST-MODIFIED:20231227T215440Z
UID:3605-1726164000-1726167600@betheltwp.org
SUMMARY:Board of Supervisors Meeting
DESCRIPTION:
URL:https://betheltwp.org/event/board-of-supervisors-meeting-4/
CATEGORIES:Board of Supervisors
END:VEVENT
END:VCALENDAR